BEGIN:VCALENDAR
VERSION:2.0
PRODID:-//Sacramento City ICC - ECPv6.15.20//NONSGML v1.0//EN
CALSCALE:GREGORIAN
METHOD:PUBLISH
X-ORIGINAL-URL:https://staging.sacramentoicc.org
X-WR-CALDESC:Events for Sacramento City ICC
REFRESH-INTERVAL;VALUE=DURATION:PT1H
X-Robots-Tag:noindex
X-PUBLISHED-TTL:PT1H
BEGIN:VTIMEZONE
TZID:UTC
BEGIN:STANDARD
TZOFFSETFROM:+0000
TZOFFSETTO:+0000
TZNAME:UTC
DTSTART:20230101T000000
END:STANDARD
END:VTIMEZONE
BEGIN:VEVENT
DTSTART;TZID=UTC:20240501T193000
DTEND;TZID=UTC:20240501T210000
DTSTAMP:20260422T235153
CREATED:20210420T063747Z
LAST-MODIFIED:20230213T223710Z
UID:3247-1714591800-1714597200@staging.sacramentoicc.org
SUMMARY:Men's Midweek
DESCRIPTION:
URL:https://staging.sacramentoicc.org/event/mens-midweek-2024-05-01/
LOCATION:California State University\, Sacramento\, 6000 J Street\, Sacramento\, CA\, 95189\, United States
CATEGORIES:Worship Services
END:VEVENT
BEGIN:VEVENT
DTSTART;TZID=UTC:20240428T100000
DTEND;TZID=UTC:20240428T120000
DTSTAMP:20260422T235153
CREATED:20210420T070508Z
LAST-MODIFIED:20230213T191924Z
UID:3498-1714298400-1714305600@staging.sacramentoicc.org
SUMMARY:Worship Service
DESCRIPTION:
URL:https://staging.sacramentoicc.org/event/worship-service-2025-02-09-2024-04-28/
LOCATION:Hilton Sacramento Arden West\, 2200 Harvard St.\, Sacramento\, CA\, 95815\, United States
CATEGORIES:Worship Services
END:VEVENT
BEGIN:VEVENT
DTSTART;TZID=UTC:20240426T193000
DTEND;TZID=UTC:20240426T213000
DTSTAMP:20260422T235153
CREATED:20210420T070133Z
LAST-MODIFIED:20230213T223910Z
UID:3245-1714159800-1714167000@staging.sacramentoicc.org
SUMMARY:Campus Devotional
DESCRIPTION:
URL:https://staging.sacramentoicc.org/event/campus-devotional-2024-04-26/
LOCATION:California State University\, Sacramento\, 6000 J Street\, Sacramento\, CA\, 95189\, United States
CATEGORIES:Worship Services
END:VEVENT
BEGIN:VEVENT
DTSTART;TZID=UTC:20240424T193000
DTEND;TZID=UTC:20240424T210000
DTSTAMP:20260422T235153
CREATED:20210420T065039Z
LAST-MODIFIED:20230213T223311Z
UID:3244-1713987000-1713992400@staging.sacramentoicc.org
SUMMARY:Women's Midweek
DESCRIPTION:
URL:https://staging.sacramentoicc.org/event/womens-midweek-2024-04-24/
LOCATION:California State University\, Sacramento\, 6000 J Street\, Sacramento\, CA\, 95189\, United States
CATEGORIES:Worship Services
END:VEVENT
BEGIN:VEVENT
DTSTART;TZID=UTC:20240421T100000
DTEND;TZID=UTC:20240421T120000
DTSTAMP:20260422T235153
CREATED:20210420T070508Z
LAST-MODIFIED:20230213T191923Z
UID:3497-1713693600-1713700800@staging.sacramentoicc.org
SUMMARY:Worship Service
DESCRIPTION:
URL:https://staging.sacramentoicc.org/event/worship-service-2025-02-09-2024-04-21/
LOCATION:Hilton Sacramento Arden West\, 2200 Harvard St.\, Sacramento\, CA\, 95815\, United States
CATEGORIES:Worship Services
END:VEVENT
BEGIN:VEVENT
DTSTART;TZID=UTC:20240419T193000
DTEND;TZID=UTC:20240419T213000
DTSTAMP:20260422T235153
CREATED:20210420T070133Z
LAST-MODIFIED:20230213T223910Z
UID:3242-1713555000-1713562200@staging.sacramentoicc.org
SUMMARY:Campus Devotional
DESCRIPTION:
URL:https://staging.sacramentoicc.org/event/campus-devotional-2024-04-19/
LOCATION:California State University\, Sacramento\, 6000 J Street\, Sacramento\, CA\, 95189\, United States
CATEGORIES:Worship Services
END:VEVENT
BEGIN:VEVENT
DTSTART;TZID=UTC:20240417T193000
DTEND;TZID=UTC:20240417T210000
DTSTAMP:20260422T235153
CREATED:20210420T063747Z
LAST-MODIFIED:20230213T223710Z
UID:3241-1713382200-1713387600@staging.sacramentoicc.org
SUMMARY:Men's Midweek
DESCRIPTION:
URL:https://staging.sacramentoicc.org/event/mens-midweek-2024-04-17/
LOCATION:California State University\, Sacramento\, 6000 J Street\, Sacramento\, CA\, 95189\, United States
CATEGORIES:Worship Services
END:VEVENT
BEGIN:VEVENT
DTSTART;TZID=UTC:20240414T100000
DTEND;TZID=UTC:20240414T120000
DTSTAMP:20260422T235153
CREATED:20210420T070508Z
LAST-MODIFIED:20230213T191923Z
UID:3496-1713088800-1713096000@staging.sacramentoicc.org
SUMMARY:Worship Service
DESCRIPTION:
URL:https://staging.sacramentoicc.org/event/worship-service-2025-02-09-2024-04-14/
LOCATION:Hilton Sacramento Arden West\, 2200 Harvard St.\, Sacramento\, CA\, 95815\, United States
CATEGORIES:Worship Services
END:VEVENT
BEGIN:VEVENT
DTSTART;TZID=UTC:20240412T193000
DTEND;TZID=UTC:20240412T213000
DTSTAMP:20260422T235153
CREATED:20210420T070133Z
LAST-MODIFIED:20230213T223909Z
UID:3239-1712950200-1712957400@staging.sacramentoicc.org
SUMMARY:Campus Devotional
DESCRIPTION:
URL:https://staging.sacramentoicc.org/event/campus-devotional-2024-04-12/
LOCATION:California State University\, Sacramento\, 6000 J Street\, Sacramento\, CA\, 95189\, United States
CATEGORIES:Worship Services
END:VEVENT
BEGIN:VEVENT
DTSTART;TZID=UTC:20240410T193000
DTEND;TZID=UTC:20240410T210000
DTSTAMP:20260422T235153
CREATED:20210420T065039Z
LAST-MODIFIED:20230213T223311Z
UID:3238-1712777400-1712782800@staging.sacramentoicc.org
SUMMARY:Women's Midweek
DESCRIPTION:
URL:https://staging.sacramentoicc.org/event/womens-midweek-2024-04-10/
LOCATION:California State University\, Sacramento\, 6000 J Street\, Sacramento\, CA\, 95189\, United States
CATEGORIES:Worship Services
END:VEVENT
BEGIN:VEVENT
DTSTART;TZID=UTC:20240407T100000
DTEND;TZID=UTC:20240407T120000
DTSTAMP:20260422T235153
CREATED:20210420T070508Z
LAST-MODIFIED:20230213T191923Z
UID:3495-1712484000-1712491200@staging.sacramentoicc.org
SUMMARY:Worship Service
DESCRIPTION:
URL:https://staging.sacramentoicc.org/event/worship-service-2025-02-09-2024-04-07/
LOCATION:Hilton Sacramento Arden West\, 2200 Harvard St.\, Sacramento\, CA\, 95815\, United States
CATEGORIES:Worship Services
END:VEVENT
BEGIN:VEVENT
DTSTART;TZID=UTC:20240405T193000
DTEND;TZID=UTC:20240405T213000
DTSTAMP:20260422T235153
CREATED:20210420T070133Z
LAST-MODIFIED:20230213T223909Z
UID:3236-1712345400-1712352600@staging.sacramentoicc.org
SUMMARY:Campus Devotional
DESCRIPTION:
URL:https://staging.sacramentoicc.org/event/campus-devotional-2024-04-05/
LOCATION:California State University\, Sacramento\, 6000 J Street\, Sacramento\, CA\, 95189\, United States
CATEGORIES:Worship Services
END:VEVENT
BEGIN:VEVENT
DTSTART;TZID=UTC:20240403T193000
DTEND;TZID=UTC:20240403T210000
DTSTAMP:20260422T235153
CREATED:20210420T063747Z
LAST-MODIFIED:20230213T223709Z
UID:3232-1712172600-1712178000@staging.sacramentoicc.org
SUMMARY:Men's Midweek
DESCRIPTION:
URL:https://staging.sacramentoicc.org/event/mens-midweek-2024-04-03/
LOCATION:California State University\, Sacramento\, 6000 J Street\, Sacramento\, CA\, 95189\, United States
CATEGORIES:Worship Services
END:VEVENT
BEGIN:VEVENT
DTSTART;TZID=UTC:20240331T100000
DTEND;TZID=UTC:20240331T120000
DTSTAMP:20260422T235153
CREATED:20210420T070508Z
LAST-MODIFIED:20230213T191922Z
UID:3494-1711879200-1711886400@staging.sacramentoicc.org
SUMMARY:Worship Service
DESCRIPTION:
URL:https://staging.sacramentoicc.org/event/worship-service-2025-02-09-2024-03-31/
LOCATION:Hilton Sacramento Arden West\, 2200 Harvard St.\, Sacramento\, CA\, 95815\, United States
CATEGORIES:Worship Services
END:VEVENT
BEGIN:VEVENT
DTSTART;TZID=UTC:20240329T193000
DTEND;TZID=UTC:20240329T213000
DTSTAMP:20260422T235153
CREATED:20210420T070133Z
LAST-MODIFIED:20230213T223909Z
UID:3230-1711740600-1711747800@staging.sacramentoicc.org
SUMMARY:Campus Devotional
DESCRIPTION:
URL:https://staging.sacramentoicc.org/event/campus-devotional-2024-03-29/
LOCATION:California State University\, Sacramento\, 6000 J Street\, Sacramento\, CA\, 95189\, United States
CATEGORIES:Worship Services
END:VEVENT
BEGIN:VEVENT
DTSTART;TZID=UTC:20240327T193000
DTEND;TZID=UTC:20240327T210000
DTSTAMP:20260422T235153
CREATED:20210420T065039Z
LAST-MODIFIED:20230213T223311Z
UID:3229-1711567800-1711573200@staging.sacramentoicc.org
SUMMARY:Women's Midweek
DESCRIPTION:
URL:https://staging.sacramentoicc.org/event/womens-midweek-2024-03-27/
LOCATION:California State University\, Sacramento\, 6000 J Street\, Sacramento\, CA\, 95189\, United States
CATEGORIES:Worship Services
END:VEVENT
BEGIN:VEVENT
DTSTART;TZID=UTC:20240324T100000
DTEND;TZID=UTC:20240324T120000
DTSTAMP:20260422T235153
CREATED:20210420T070508Z
LAST-MODIFIED:20230213T191922Z
UID:3493-1711274400-1711281600@staging.sacramentoicc.org
SUMMARY:Worship Service
DESCRIPTION:
URL:https://staging.sacramentoicc.org/event/worship-service-2025-02-09-2024-03-24/
LOCATION:Hilton Sacramento Arden West\, 2200 Harvard St.\, Sacramento\, CA\, 95815\, United States
CATEGORIES:Worship Services
END:VEVENT
BEGIN:VEVENT
DTSTART;TZID=UTC:20240322T193000
DTEND;TZID=UTC:20240322T213000
DTSTAMP:20260422T235153
CREATED:20210420T070133Z
LAST-MODIFIED:20230213T223909Z
UID:3211-1711135800-1711143000@staging.sacramentoicc.org
SUMMARY:Campus Devotional
DESCRIPTION:
URL:https://staging.sacramentoicc.org/event/campus-devotional-2024-03-22/
LOCATION:California State University\, Sacramento\, 6000 J Street\, Sacramento\, CA\, 95189\, United States
CATEGORIES:Worship Services
END:VEVENT
BEGIN:VEVENT
DTSTART;TZID=UTC:20240320T193000
DTEND;TZID=UTC:20240320T210000
DTSTAMP:20260422T235153
CREATED:20210420T063747Z
LAST-MODIFIED:20230213T223709Z
UID:3210-1710963000-1710968400@staging.sacramentoicc.org
SUMMARY:Men's Midweek
DESCRIPTION:
URL:https://staging.sacramentoicc.org/event/mens-midweek-2024-03-20/
LOCATION:California State University\, Sacramento\, 6000 J Street\, Sacramento\, CA\, 95189\, United States
CATEGORIES:Worship Services
END:VEVENT
BEGIN:VEVENT
DTSTART;TZID=UTC:20240317T100000
DTEND;TZID=UTC:20240317T120000
DTSTAMP:20260422T235153
CREATED:20210420T070508Z
LAST-MODIFIED:20230213T191921Z
UID:3492-1710669600-1710676800@staging.sacramentoicc.org
SUMMARY:Worship Service
DESCRIPTION:
URL:https://staging.sacramentoicc.org/event/worship-service-2025-02-09-2024-03-17/
LOCATION:Hilton Sacramento Arden West\, 2200 Harvard St.\, Sacramento\, CA\, 95815\, United States
CATEGORIES:Worship Services
END:VEVENT
BEGIN:VEVENT
DTSTART;TZID=UTC:20240315T193000
DTEND;TZID=UTC:20240315T213000
DTSTAMP:20260422T235153
CREATED:20210420T070133Z
LAST-MODIFIED:20230213T223908Z
UID:3208-1710531000-1710538200@staging.sacramentoicc.org
SUMMARY:Campus Devotional
DESCRIPTION:
URL:https://staging.sacramentoicc.org/event/campus-devotional-2024-03-15/
LOCATION:California State University\, Sacramento\, 6000 J Street\, Sacramento\, CA\, 95189\, United States
CATEGORIES:Worship Services
END:VEVENT
BEGIN:VEVENT
DTSTART;TZID=UTC:20240313T193000
DTEND;TZID=UTC:20240313T210000
DTSTAMP:20260422T235153
CREATED:20210420T065039Z
LAST-MODIFIED:20230213T223310Z
UID:3207-1710358200-1710363600@staging.sacramentoicc.org
SUMMARY:Women's Midweek
DESCRIPTION:
URL:https://staging.sacramentoicc.org/event/womens-midweek-2024-03-13/
LOCATION:California State University\, Sacramento\, 6000 J Street\, Sacramento\, CA\, 95189\, United States
CATEGORIES:Worship Services
END:VEVENT
BEGIN:VEVENT
DTSTART;TZID=UTC:20240310T100000
DTEND;TZID=UTC:20240310T120000
DTSTAMP:20260422T235153
CREATED:20210420T070508Z
LAST-MODIFIED:20230213T191921Z
UID:3491-1710064800-1710072000@staging.sacramentoicc.org
SUMMARY:Worship Service
DESCRIPTION:
URL:https://staging.sacramentoicc.org/event/worship-service-2025-02-09-2024-03-10/
LOCATION:Hilton Sacramento Arden West\, 2200 Harvard St.\, Sacramento\, CA\, 95815\, United States
CATEGORIES:Worship Services
END:VEVENT
BEGIN:VEVENT
DTSTART;TZID=UTC:20240308T193000
DTEND;TZID=UTC:20240308T213000
DTSTAMP:20260422T235153
CREATED:20210420T070133Z
LAST-MODIFIED:20230213T223908Z
UID:3205-1709926200-1709933400@staging.sacramentoicc.org
SUMMARY:Campus Devotional
DESCRIPTION:
URL:https://staging.sacramentoicc.org/event/campus-devotional-2024-03-08/
LOCATION:California State University\, Sacramento\, 6000 J Street\, Sacramento\, CA\, 95189\, United States
CATEGORIES:Worship Services
END:VEVENT
BEGIN:VEVENT
DTSTART;TZID=UTC:20240306T193000
DTEND;TZID=UTC:20240306T210000
DTSTAMP:20260422T235153
CREATED:20210420T063747Z
LAST-MODIFIED:20230213T223709Z
UID:3204-1709753400-1709758800@staging.sacramentoicc.org
SUMMARY:Men's Midweek
DESCRIPTION:
URL:https://staging.sacramentoicc.org/event/mens-midweek-2024-03-06/
LOCATION:California State University\, Sacramento\, 6000 J Street\, Sacramento\, CA\, 95189\, United States
CATEGORIES:Worship Services
END:VEVENT
BEGIN:VEVENT
DTSTART;TZID=UTC:20240303T100000
DTEND;TZID=UTC:20240303T120000
DTSTAMP:20260422T235153
CREATED:20210420T070508Z
LAST-MODIFIED:20230213T191920Z
UID:3490-1709460000-1709467200@staging.sacramentoicc.org
SUMMARY:Worship Service
DESCRIPTION:
URL:https://staging.sacramentoicc.org/event/worship-service-2025-02-09-2024-03-03/
LOCATION:Hilton Sacramento Arden West\, 2200 Harvard St.\, Sacramento\, CA\, 95815\, United States
CATEGORIES:Worship Services
END:VEVENT
BEGIN:VEVENT
DTSTART;TZID=UTC:20240301T193000
DTEND;TZID=UTC:20240301T213000
DTSTAMP:20260422T235153
CREATED:20210420T070133Z
LAST-MODIFIED:20230213T223907Z
UID:3202-1709321400-1709328600@staging.sacramentoicc.org
SUMMARY:Campus Devotional
DESCRIPTION:
URL:https://staging.sacramentoicc.org/event/campus-devotional-2024-03-01/
LOCATION:California State University\, Sacramento\, 6000 J Street\, Sacramento\, CA\, 95189\, United States
CATEGORIES:Worship Services
END:VEVENT
BEGIN:VEVENT
DTSTART;TZID=UTC:20240228T193000
DTEND;TZID=UTC:20240228T210000
DTSTAMP:20260422T235153
CREATED:20210420T065039Z
LAST-MODIFIED:20230213T223310Z
UID:3198-1709148600-1709154000@staging.sacramentoicc.org
SUMMARY:Women's Midweek
DESCRIPTION:
URL:https://staging.sacramentoicc.org/event/womens-midweek-2024-02-28/
LOCATION:California State University\, Sacramento\, 6000 J Street\, Sacramento\, CA\, 95189\, United States
CATEGORIES:Worship Services
END:VEVENT
BEGIN:VEVENT
DTSTART;TZID=UTC:20240225T100000
DTEND;TZID=UTC:20240225T120000
DTSTAMP:20260422T235153
CREATED:20210420T070508Z
LAST-MODIFIED:20230213T191918Z
UID:3489-1708855200-1708862400@staging.sacramentoicc.org
SUMMARY:Worship Service
DESCRIPTION:
URL:https://staging.sacramentoicc.org/event/worship-service-2025-02-09-2024-02-25/
LOCATION:Hilton Sacramento Arden West\, 2200 Harvard St.\, Sacramento\, CA\, 95815\, United States
CATEGORIES:Worship Services
END:VEVENT
BEGIN:VEVENT
DTSTART;TZID=UTC:20240223T193000
DTEND;TZID=UTC:20240223T213000
DTSTAMP:20260422T235153
CREATED:20210420T070133Z
LAST-MODIFIED:20230213T223907Z
UID:3196-1708716600-1708723800@staging.sacramentoicc.org
SUMMARY:Campus Devotional
DESCRIPTION:
URL:https://staging.sacramentoicc.org/event/campus-devotional-2024-02-23/
LOCATION:California State University\, Sacramento\, 6000 J Street\, Sacramento\, CA\, 95189\, United States
CATEGORIES:Worship Services
END:VEVENT
END:VCALENDAR