BEGIN:VCALENDAR
VERSION:2.0
PRODID:-//Sacramento City ICC - ECPv6.15.20//NONSGML v1.0//EN
CALSCALE:GREGORIAN
METHOD:PUBLISH
X-WR-CALNAME:Sacramento City ICC
X-ORIGINAL-URL:https://staging.sacramentoicc.org
X-WR-CALDESC:Events for Sacramento City ICC
REFRESH-INTERVAL;VALUE=DURATION:PT1H
X-Robots-Tag:noindex
X-PUBLISHED-TTL:PT1H
BEGIN:VTIMEZONE
TZID:UTC
BEGIN:STANDARD
TZOFFSETFROM:+0000
TZOFFSETTO:+0000
TZNAME:UTC
DTSTART:20230101T000000
END:STANDARD
END:VTIMEZONE
BEGIN:VEVENT
DTSTART;TZID=UTC:20241016T193000
DTEND;TZID=UTC:20241016T210000
DTSTAMP:20260422T100238
CREATED:20210420T063747Z
LAST-MODIFIED:20230213T223715Z
UID:3362-1729107000-1729112400@staging.sacramentoicc.org
SUMMARY:Men's Midweek
DESCRIPTION:
URL:https://staging.sacramentoicc.org/event/mens-midweek-2024-10-16/
LOCATION:California State University\, Sacramento\, 6000 J Street\, Sacramento\, CA\, 95189\, United States
CATEGORIES:Worship Services
END:VEVENT
BEGIN:VEVENT
DTSTART;TZID=UTC:20241013T100000
DTEND;TZID=UTC:20241013T120000
DTSTAMP:20260422T100238
CREATED:20210420T070508Z
LAST-MODIFIED:20230213T191936Z
UID:3522-1728813600-1728820800@staging.sacramentoicc.org
SUMMARY:Worship Service
DESCRIPTION:
URL:https://staging.sacramentoicc.org/event/worship-service-2025-02-09-2024-10-13/
LOCATION:Hilton Sacramento Arden West\, 2200 Harvard St.\, Sacramento\, CA\, 95815\, United States
CATEGORIES:Worship Services
END:VEVENT
BEGIN:VEVENT
DTSTART;TZID=UTC:20241011T193000
DTEND;TZID=UTC:20241011T213000
DTSTAMP:20260422T100238
CREATED:20210420T070133Z
LAST-MODIFIED:20230213T223919Z
UID:3360-1728675000-1728682200@staging.sacramentoicc.org
SUMMARY:Campus Devotional
DESCRIPTION:
URL:https://staging.sacramentoicc.org/event/campus-devotional-2024-10-11/
LOCATION:California State University\, Sacramento\, 6000 J Street\, Sacramento\, CA\, 95189\, United States
CATEGORIES:Worship Services
END:VEVENT
BEGIN:VEVENT
DTSTART;TZID=UTC:20241009T193000
DTEND;TZID=UTC:20241009T210000
DTSTAMP:20260422T100238
CREATED:20210420T065039Z
LAST-MODIFIED:20230213T223316Z
UID:3359-1728502200-1728507600@staging.sacramentoicc.org
SUMMARY:Women's Midweek
DESCRIPTION:
URL:https://staging.sacramentoicc.org/event/womens-midweek-2024-10-09/
LOCATION:California State University\, Sacramento\, 6000 J Street\, Sacramento\, CA\, 95189\, United States
CATEGORIES:Worship Services
END:VEVENT
BEGIN:VEVENT
DTSTART;TZID=UTC:20241006T100000
DTEND;TZID=UTC:20241006T120000
DTSTAMP:20260422T100238
CREATED:20210420T070508Z
LAST-MODIFIED:20230213T191936Z
UID:3521-1728208800-1728216000@staging.sacramentoicc.org
SUMMARY:Worship Service
DESCRIPTION:
URL:https://staging.sacramentoicc.org/event/worship-service-2025-02-09-2024-10-06/
LOCATION:Hilton Sacramento Arden West\, 2200 Harvard St.\, Sacramento\, CA\, 95815\, United States
CATEGORIES:Worship Services
END:VEVENT
BEGIN:VEVENT
DTSTART;TZID=UTC:20241004T193000
DTEND;TZID=UTC:20241004T213000
DTSTAMP:20260422T100238
CREATED:20210420T070133Z
LAST-MODIFIED:20230213T223918Z
UID:3357-1728070200-1728077400@staging.sacramentoicc.org
SUMMARY:Campus Devotional
DESCRIPTION:
URL:https://staging.sacramentoicc.org/event/campus-devotional-2024-10-04/
LOCATION:California State University\, Sacramento\, 6000 J Street\, Sacramento\, CA\, 95189\, United States
CATEGORIES:Worship Services
END:VEVENT
BEGIN:VEVENT
DTSTART;TZID=UTC:20241002T193000
DTEND;TZID=UTC:20241002T210000
DTSTAMP:20260422T100238
CREATED:20210420T063747Z
LAST-MODIFIED:20230213T223714Z
UID:3353-1727897400-1727902800@staging.sacramentoicc.org
SUMMARY:Men's Midweek
DESCRIPTION:
URL:https://staging.sacramentoicc.org/event/mens-midweek-2024-10-02/
LOCATION:California State University\, Sacramento\, 6000 J Street\, Sacramento\, CA\, 95189\, United States
CATEGORIES:Worship Services
END:VEVENT
BEGIN:VEVENT
DTSTART;TZID=UTC:20240929T100000
DTEND;TZID=UTC:20240929T120000
DTSTAMP:20260422T100238
CREATED:20210420T070508Z
LAST-MODIFIED:20230213T191935Z
UID:3520-1727604000-1727611200@staging.sacramentoicc.org
SUMMARY:Worship Service
DESCRIPTION:
URL:https://staging.sacramentoicc.org/event/worship-service-2025-02-09-2024-09-29/
LOCATION:Hilton Sacramento Arden West\, 2200 Harvard St.\, Sacramento\, CA\, 95815\, United States
CATEGORIES:Worship Services
END:VEVENT
BEGIN:VEVENT
DTSTART;TZID=UTC:20240927T193000
DTEND;TZID=UTC:20240927T213000
DTSTAMP:20260422T100238
CREATED:20210420T070133Z
LAST-MODIFIED:20230213T223917Z
UID:3342-1727465400-1727472600@staging.sacramentoicc.org
SUMMARY:Campus Devotional
DESCRIPTION:
URL:https://staging.sacramentoicc.org/event/campus-devotional-2024-09-27/
LOCATION:California State University\, Sacramento\, 6000 J Street\, Sacramento\, CA\, 95189\, United States
CATEGORIES:Worship Services
END:VEVENT
BEGIN:VEVENT
DTSTART;TZID=UTC:20240925T193000
DTEND;TZID=UTC:20240925T210000
DTSTAMP:20260422T100238
CREATED:20210420T065039Z
LAST-MODIFIED:20230213T223315Z
UID:3341-1727292600-1727298000@staging.sacramentoicc.org
SUMMARY:Women's Midweek
DESCRIPTION:
URL:https://staging.sacramentoicc.org/event/womens-midweek-2024-09-25/
LOCATION:California State University\, Sacramento\, 6000 J Street\, Sacramento\, CA\, 95189\, United States
CATEGORIES:Worship Services
END:VEVENT
BEGIN:VEVENT
DTSTART;TZID=UTC:20240922T100000
DTEND;TZID=UTC:20240922T120000
DTSTAMP:20260422T100238
CREATED:20210420T070508Z
LAST-MODIFIED:20230213T191934Z
UID:3519-1726999200-1727006400@staging.sacramentoicc.org
SUMMARY:Worship Service
DESCRIPTION:
URL:https://staging.sacramentoicc.org/event/worship-service-2025-02-09-2024-09-22/
LOCATION:Hilton Sacramento Arden West\, 2200 Harvard St.\, Sacramento\, CA\, 95815\, United States
CATEGORIES:Worship Services
END:VEVENT
BEGIN:VEVENT
DTSTART;TZID=UTC:20240920T193000
DTEND;TZID=UTC:20240920T213000
DTSTAMP:20260422T100238
CREATED:20210420T070133Z
LAST-MODIFIED:20230213T223917Z
UID:3336-1726860600-1726867800@staging.sacramentoicc.org
SUMMARY:Campus Devotional
DESCRIPTION:
URL:https://staging.sacramentoicc.org/event/campus-devotional-2024-09-20/
LOCATION:California State University\, Sacramento\, 6000 J Street\, Sacramento\, CA\, 95189\, United States
CATEGORIES:Worship Services
END:VEVENT
BEGIN:VEVENT
DTSTART;TZID=UTC:20240918T193000
DTEND;TZID=UTC:20240918T210000
DTSTAMP:20260422T100238
CREATED:20210420T063747Z
LAST-MODIFIED:20230213T223714Z
UID:3335-1726687800-1726693200@staging.sacramentoicc.org
SUMMARY:Men's Midweek
DESCRIPTION:
URL:https://staging.sacramentoicc.org/event/mens-midweek-2024-09-18/
LOCATION:California State University\, Sacramento\, 6000 J Street\, Sacramento\, CA\, 95189\, United States
CATEGORIES:Worship Services
END:VEVENT
BEGIN:VEVENT
DTSTART;TZID=UTC:20240915T100000
DTEND;TZID=UTC:20240915T120000
DTSTAMP:20260422T100238
CREATED:20210420T070508Z
LAST-MODIFIED:20230213T191934Z
UID:3518-1726394400-1726401600@staging.sacramentoicc.org
SUMMARY:Worship Service
DESCRIPTION:
URL:https://staging.sacramentoicc.org/event/worship-service-2025-02-09-2024-09-15/
LOCATION:Hilton Sacramento Arden West\, 2200 Harvard St.\, Sacramento\, CA\, 95815\, United States
CATEGORIES:Worship Services
END:VEVENT
BEGIN:VEVENT
DTSTART;TZID=UTC:20240913T193000
DTEND;TZID=UTC:20240913T213000
DTSTAMP:20260422T100238
CREATED:20210420T070133Z
LAST-MODIFIED:20230213T223917Z
UID:3333-1726255800-1726263000@staging.sacramentoicc.org
SUMMARY:Campus Devotional
DESCRIPTION:
URL:https://staging.sacramentoicc.org/event/campus-devotional-2024-09-13/
LOCATION:California State University\, Sacramento\, 6000 J Street\, Sacramento\, CA\, 95189\, United States
CATEGORIES:Worship Services
END:VEVENT
BEGIN:VEVENT
DTSTART;TZID=UTC:20240911T193000
DTEND;TZID=UTC:20240911T210000
DTSTAMP:20260422T100238
CREATED:20210420T065039Z
LAST-MODIFIED:20230213T223315Z
UID:3332-1726083000-1726088400@staging.sacramentoicc.org
SUMMARY:Women's Midweek
DESCRIPTION:
URL:https://staging.sacramentoicc.org/event/womens-midweek-2024-09-11/
LOCATION:California State University\, Sacramento\, 6000 J Street\, Sacramento\, CA\, 95189\, United States
CATEGORIES:Worship Services
END:VEVENT
BEGIN:VEVENT
DTSTART;TZID=UTC:20240908T100000
DTEND;TZID=UTC:20240908T120000
DTSTAMP:20260422T100238
CREATED:20210420T070508Z
LAST-MODIFIED:20230213T191934Z
UID:3517-1725789600-1725796800@staging.sacramentoicc.org
SUMMARY:Worship Service
DESCRIPTION:
URL:https://staging.sacramentoicc.org/event/worship-service-2025-02-09-2024-09-08/
LOCATION:Hilton Sacramento Arden West\, 2200 Harvard St.\, Sacramento\, CA\, 95815\, United States
CATEGORIES:Worship Services
END:VEVENT
BEGIN:VEVENT
DTSTART;TZID=UTC:20240906T193000
DTEND;TZID=UTC:20240906T213000
DTSTAMP:20260422T100238
CREATED:20210420T070133Z
LAST-MODIFIED:20230213T223917Z
UID:3327-1725651000-1725658200@staging.sacramentoicc.org
SUMMARY:Campus Devotional
DESCRIPTION:
URL:https://staging.sacramentoicc.org/event/campus-devotional-2024-09-06/
LOCATION:California State University\, Sacramento\, 6000 J Street\, Sacramento\, CA\, 95189\, United States
CATEGORIES:Worship Services
END:VEVENT
BEGIN:VEVENT
DTSTART;TZID=UTC:20240904T193000
DTEND;TZID=UTC:20240904T210000
DTSTAMP:20260422T100238
CREATED:20210420T063747Z
LAST-MODIFIED:20230213T223714Z
UID:3323-1725478200-1725483600@staging.sacramentoicc.org
SUMMARY:Men's Midweek
DESCRIPTION:
URL:https://staging.sacramentoicc.org/event/mens-midweek-2024-09-04/
LOCATION:California State University\, Sacramento\, 6000 J Street\, Sacramento\, CA\, 95189\, United States
CATEGORIES:Worship Services
END:VEVENT
BEGIN:VEVENT
DTSTART;TZID=UTC:20240901T100000
DTEND;TZID=UTC:20240901T120000
DTSTAMP:20260422T100238
CREATED:20210420T070508Z
LAST-MODIFIED:20230213T191933Z
UID:3516-1725184800-1725192000@staging.sacramentoicc.org
SUMMARY:Worship Service
DESCRIPTION:
URL:https://staging.sacramentoicc.org/event/worship-service-2025-02-09-2024-09-01/
LOCATION:Hilton Sacramento Arden West\, 2200 Harvard St.\, Sacramento\, CA\, 95815\, United States
CATEGORIES:Worship Services
END:VEVENT
BEGIN:VEVENT
DTSTART;TZID=UTC:20240830T193000
DTEND;TZID=UTC:20240830T213000
DTSTAMP:20260422T100238
CREATED:20210420T070133Z
LAST-MODIFIED:20230213T223916Z
UID:3321-1725046200-1725053400@staging.sacramentoicc.org
SUMMARY:Campus Devotional
DESCRIPTION:
URL:https://staging.sacramentoicc.org/event/campus-devotional-2024-08-30/
LOCATION:California State University\, Sacramento\, 6000 J Street\, Sacramento\, CA\, 95189\, United States
CATEGORIES:Worship Services
END:VEVENT
BEGIN:VEVENT
DTSTART;TZID=UTC:20240828T193000
DTEND;TZID=UTC:20240828T210000
DTSTAMP:20260422T100238
CREATED:20210420T065039Z
LAST-MODIFIED:20230213T223315Z
UID:3320-1724873400-1724878800@staging.sacramentoicc.org
SUMMARY:Women's Midweek
DESCRIPTION:
URL:https://staging.sacramentoicc.org/event/womens-midweek-2024-08-28/
LOCATION:California State University\, Sacramento\, 6000 J Street\, Sacramento\, CA\, 95189\, United States
CATEGORIES:Worship Services
END:VEVENT
BEGIN:VEVENT
DTSTART;TZID=UTC:20240825T100000
DTEND;TZID=UTC:20240825T120000
DTSTAMP:20260422T100238
CREATED:20210420T070508Z
LAST-MODIFIED:20230213T191933Z
UID:3515-1724580000-1724587200@staging.sacramentoicc.org
SUMMARY:Worship Service
DESCRIPTION:
URL:https://staging.sacramentoicc.org/event/worship-service-2025-02-09-2024-08-25/
LOCATION:Hilton Sacramento Arden West\, 2200 Harvard St.\, Sacramento\, CA\, 95815\, United States
CATEGORIES:Worship Services
END:VEVENT
BEGIN:VEVENT
DTSTART;TZID=UTC:20240823T193000
DTEND;TZID=UTC:20240823T213000
DTSTAMP:20260422T100238
CREATED:20210420T070133Z
LAST-MODIFIED:20230213T223916Z
UID:3318-1724441400-1724448600@staging.sacramentoicc.org
SUMMARY:Campus Devotional
DESCRIPTION:
URL:https://staging.sacramentoicc.org/event/campus-devotional-2024-08-23/
LOCATION:California State University\, Sacramento\, 6000 J Street\, Sacramento\, CA\, 95189\, United States
CATEGORIES:Worship Services
END:VEVENT
BEGIN:VEVENT
DTSTART;TZID=UTC:20240821T193000
DTEND;TZID=UTC:20240821T210000
DTSTAMP:20260422T100238
CREATED:20210420T063747Z
LAST-MODIFIED:20230213T223713Z
UID:3317-1724268600-1724274000@staging.sacramentoicc.org
SUMMARY:Men's Midweek
DESCRIPTION:
URL:https://staging.sacramentoicc.org/event/mens-midweek-2024-08-21/
LOCATION:California State University\, Sacramento\, 6000 J Street\, Sacramento\, CA\, 95189\, United States
CATEGORIES:Worship Services
END:VEVENT
BEGIN:VEVENT
DTSTART;TZID=UTC:20240818T100000
DTEND;TZID=UTC:20240818T120000
DTSTAMP:20260422T100238
CREATED:20210420T070508Z
LAST-MODIFIED:20230213T191933Z
UID:3514-1723975200-1723982400@staging.sacramentoicc.org
SUMMARY:Worship Service
DESCRIPTION:
URL:https://staging.sacramentoicc.org/event/worship-service-2025-02-09-2024-08-18/
LOCATION:Hilton Sacramento Arden West\, 2200 Harvard St.\, Sacramento\, CA\, 95815\, United States
CATEGORIES:Worship Services
END:VEVENT
BEGIN:VEVENT
DTSTART;TZID=UTC:20240816T193000
DTEND;TZID=UTC:20240816T213000
DTSTAMP:20260422T100238
CREATED:20210420T070133Z
LAST-MODIFIED:20230213T223916Z
UID:3315-1723836600-1723843800@staging.sacramentoicc.org
SUMMARY:Campus Devotional
DESCRIPTION:
URL:https://staging.sacramentoicc.org/event/campus-devotional-2024-08-16/
LOCATION:California State University\, Sacramento\, 6000 J Street\, Sacramento\, CA\, 95189\, United States
CATEGORIES:Worship Services
END:VEVENT
BEGIN:VEVENT
DTSTART;TZID=UTC:20240814T193000
DTEND;TZID=UTC:20240814T210000
DTSTAMP:20260422T100238
CREATED:20210420T065039Z
LAST-MODIFIED:20230213T223315Z
UID:3314-1723663800-1723669200@staging.sacramentoicc.org
SUMMARY:Women's Midweek
DESCRIPTION:
URL:https://staging.sacramentoicc.org/event/womens-midweek-2024-08-14/
LOCATION:California State University\, Sacramento\, 6000 J Street\, Sacramento\, CA\, 95189\, United States
CATEGORIES:Worship Services
END:VEVENT
BEGIN:VEVENT
DTSTART;TZID=UTC:20240811T100000
DTEND;TZID=UTC:20240811T120000
DTSTAMP:20260422T100238
CREATED:20210420T070508Z
LAST-MODIFIED:20230213T191932Z
UID:3513-1723370400-1723377600@staging.sacramentoicc.org
SUMMARY:Worship Service
DESCRIPTION:
URL:https://staging.sacramentoicc.org/event/worship-service-2025-02-09-2024-08-11/
LOCATION:Hilton Sacramento Arden West\, 2200 Harvard St.\, Sacramento\, CA\, 95815\, United States
CATEGORIES:Worship Services
END:VEVENT
BEGIN:VEVENT
DTSTART;TZID=UTC:20240809T193000
DTEND;TZID=UTC:20240809T213000
DTSTAMP:20260422T100238
CREATED:20210420T070133Z
LAST-MODIFIED:20230213T223915Z
UID:3312-1723231800-1723239000@staging.sacramentoicc.org
SUMMARY:Campus Devotional
DESCRIPTION:
URL:https://staging.sacramentoicc.org/event/campus-devotional-2024-08-09/
LOCATION:California State University\, Sacramento\, 6000 J Street\, Sacramento\, CA\, 95189\, United States
CATEGORIES:Worship Services
END:VEVENT
END:VCALENDAR