BEGIN:VCALENDAR
VERSION:2.0
PRODID:-//Sacramento City ICC - ECPv6.15.20//NONSGML v1.0//EN
CALSCALE:GREGORIAN
METHOD:PUBLISH
X-WR-CALNAME:Sacramento City ICC
X-ORIGINAL-URL:https://staging.sacramentoicc.org
X-WR-CALDESC:Events for Sacramento City ICC
REFRESH-INTERVAL;VALUE=DURATION:PT1H
X-Robots-Tag:noindex
X-PUBLISHED-TTL:PT1H
BEGIN:VTIMEZONE
TZID:UTC
BEGIN:STANDARD
TZOFFSETFROM:+0000
TZOFFSETTO:+0000
TZNAME:UTC
DTSTART:20230101T000000
END:STANDARD
END:VTIMEZONE
BEGIN:VEVENT
DTSTART;TZID=UTC:20240724T193000
DTEND;TZID=UTC:20240724T210000
DTSTAMP:20260422T145544
CREATED:20210420T063747Z
LAST-MODIFIED:20230213T223713Z
UID:3302-1721849400-1721854800@staging.sacramentoicc.org
SUMMARY:Men's Midweek
DESCRIPTION:
URL:https://staging.sacramentoicc.org/event/mens-midweek-2024-07-24/
LOCATION:California State University\, Sacramento\, 6000 J Street\, Sacramento\, CA\, 95189\, United States
CATEGORIES:Worship Services
END:VEVENT
BEGIN:VEVENT
DTSTART;TZID=UTC:20240721T100000
DTEND;TZID=UTC:20240721T120000
DTSTAMP:20260422T145544
CREATED:20210420T070508Z
LAST-MODIFIED:20230213T191931Z
UID:3510-1721556000-1721563200@staging.sacramentoicc.org
SUMMARY:Worship Service
DESCRIPTION:
URL:https://staging.sacramentoicc.org/event/worship-service-2025-02-09-2024-07-21/
LOCATION:Hilton Sacramento Arden West\, 2200 Harvard St.\, Sacramento\, CA\, 95815\, United States
CATEGORIES:Worship Services
END:VEVENT
BEGIN:VEVENT
DTSTART;TZID=UTC:20240719T193000
DTEND;TZID=UTC:20240719T213000
DTSTAMP:20260422T145544
CREATED:20210420T070133Z
LAST-MODIFIED:20230213T223914Z
UID:3300-1721417400-1721424600@staging.sacramentoicc.org
SUMMARY:Campus Devotional
DESCRIPTION:
URL:https://staging.sacramentoicc.org/event/campus-devotional-2024-07-19/
LOCATION:California State University\, Sacramento\, 6000 J Street\, Sacramento\, CA\, 95189\, United States
CATEGORIES:Worship Services
END:VEVENT
BEGIN:VEVENT
DTSTART;TZID=UTC:20240717T193000
DTEND;TZID=UTC:20240717T210000
DTSTAMP:20260422T145544
CREATED:20210420T065039Z
LAST-MODIFIED:20230213T223314Z
UID:3296-1721244600-1721250000@staging.sacramentoicc.org
SUMMARY:Women's Midweek
DESCRIPTION:
URL:https://staging.sacramentoicc.org/event/womens-midweek-2024-07-17/
LOCATION:California State University\, Sacramento\, 6000 J Street\, Sacramento\, CA\, 95189\, United States
CATEGORIES:Worship Services
END:VEVENT
BEGIN:VEVENT
DTSTART;TZID=UTC:20240714T100000
DTEND;TZID=UTC:20240714T120000
DTSTAMP:20260422T145544
CREATED:20210420T070508Z
LAST-MODIFIED:20230213T191929Z
UID:3509-1720951200-1720958400@staging.sacramentoicc.org
SUMMARY:Worship Service
DESCRIPTION:
URL:https://staging.sacramentoicc.org/event/worship-service-2025-02-09-2024-07-14/
LOCATION:Hilton Sacramento Arden West\, 2200 Harvard St.\, Sacramento\, CA\, 95815\, United States
CATEGORIES:Worship Services
END:VEVENT
BEGIN:VEVENT
DTSTART;TZID=UTC:20240712T193000
DTEND;TZID=UTC:20240712T213000
DTSTAMP:20260422T145544
CREATED:20210420T070133Z
LAST-MODIFIED:20230213T223914Z
UID:3294-1720812600-1720819800@staging.sacramentoicc.org
SUMMARY:Campus Devotional
DESCRIPTION:
URL:https://staging.sacramentoicc.org/event/campus-devotional-2024-07-12/
LOCATION:California State University\, Sacramento\, 6000 J Street\, Sacramento\, CA\, 95189\, United States
CATEGORIES:Worship Services
END:VEVENT
BEGIN:VEVENT
DTSTART;TZID=UTC:20240710T193000
DTEND;TZID=UTC:20240710T210000
DTSTAMP:20260422T145544
CREATED:20210420T063747Z
LAST-MODIFIED:20230213T223712Z
UID:3290-1720639800-1720645200@staging.sacramentoicc.org
SUMMARY:Men's Midweek
DESCRIPTION:
URL:https://staging.sacramentoicc.org/event/mens-midweek-2024-07-10/
LOCATION:California State University\, Sacramento\, 6000 J Street\, Sacramento\, CA\, 95189\, United States
CATEGORIES:Worship Services
END:VEVENT
BEGIN:VEVENT
DTSTART;TZID=UTC:20240707T100000
DTEND;TZID=UTC:20240707T120000
DTSTAMP:20260422T145544
CREATED:20210420T070508Z
LAST-MODIFIED:20230213T191929Z
UID:3508-1720346400-1720353600@staging.sacramentoicc.org
SUMMARY:Worship Service
DESCRIPTION:
URL:https://staging.sacramentoicc.org/event/worship-service-2025-02-09-2024-07-07/
LOCATION:Hilton Sacramento Arden West\, 2200 Harvard St.\, Sacramento\, CA\, 95815\, United States
CATEGORIES:Worship Services
END:VEVENT
BEGIN:VEVENT
DTSTART;TZID=UTC:20240705T193000
DTEND;TZID=UTC:20240705T213000
DTSTAMP:20260422T145544
CREATED:20210420T070133Z
LAST-MODIFIED:20230213T223913Z
UID:3288-1720207800-1720215000@staging.sacramentoicc.org
SUMMARY:Campus Devotional
DESCRIPTION:
URL:https://staging.sacramentoicc.org/event/campus-devotional-2024-07-05/
LOCATION:California State University\, Sacramento\, 6000 J Street\, Sacramento\, CA\, 95189\, United States
CATEGORIES:Worship Services
END:VEVENT
BEGIN:VEVENT
DTSTART;TZID=UTC:20240703T193000
DTEND;TZID=UTC:20240703T210000
DTSTAMP:20260422T145544
CREATED:20210420T065039Z
LAST-MODIFIED:20230213T223314Z
UID:3284-1720035000-1720040400@staging.sacramentoicc.org
SUMMARY:Women's Midweek
DESCRIPTION:
URL:https://staging.sacramentoicc.org/event/womens-midweek-2024-07-03/
LOCATION:California State University\, Sacramento\, 6000 J Street\, Sacramento\, CA\, 95189\, United States
CATEGORIES:Worship Services
END:VEVENT
BEGIN:VEVENT
DTSTART;TZID=UTC:20240630T100000
DTEND;TZID=UTC:20240630T120000
DTSTAMP:20260422T145544
CREATED:20210420T070508Z
LAST-MODIFIED:20230213T191929Z
UID:3507-1719741600-1719748800@staging.sacramentoicc.org
SUMMARY:Worship Service
DESCRIPTION:
URL:https://staging.sacramentoicc.org/event/worship-service-2025-02-09-2024-06-30/
LOCATION:Hilton Sacramento Arden West\, 2200 Harvard St.\, Sacramento\, CA\, 95815\, United States
CATEGORIES:Worship Services
END:VEVENT
BEGIN:VEVENT
DTSTART;TZID=UTC:20240628T193000
DTEND;TZID=UTC:20240628T213000
DTSTAMP:20260422T145544
CREATED:20210420T070133Z
LAST-MODIFIED:20230213T223913Z
UID:3281-1719603000-1719610200@staging.sacramentoicc.org
SUMMARY:Campus Devotional
DESCRIPTION:
URL:https://staging.sacramentoicc.org/event/campus-devotional-2024-06-28/
LOCATION:California State University\, Sacramento\, 6000 J Street\, Sacramento\, CA\, 95189\, United States
CATEGORIES:Worship Services
END:VEVENT
BEGIN:VEVENT
DTSTART;TZID=UTC:20240626T193000
DTEND;TZID=UTC:20240626T210000
DTSTAMP:20260422T145544
CREATED:20210420T063747Z
LAST-MODIFIED:20230213T223712Z
UID:3280-1719430200-1719435600@staging.sacramentoicc.org
SUMMARY:Men's Midweek
DESCRIPTION:
URL:https://staging.sacramentoicc.org/event/mens-midweek-2024-06-26/
LOCATION:California State University\, Sacramento\, 6000 J Street\, Sacramento\, CA\, 95189\, United States
CATEGORIES:Worship Services
END:VEVENT
BEGIN:VEVENT
DTSTART;TZID=UTC:20240623T100000
DTEND;TZID=UTC:20240623T120000
DTSTAMP:20260422T145544
CREATED:20210420T070508Z
LAST-MODIFIED:20230213T191928Z
UID:3506-1719136800-1719144000@staging.sacramentoicc.org
SUMMARY:Worship Service
DESCRIPTION:
URL:https://staging.sacramentoicc.org/event/worship-service-2025-02-09-2024-06-23/
LOCATION:Hilton Sacramento Arden West\, 2200 Harvard St.\, Sacramento\, CA\, 95815\, United States
CATEGORIES:Worship Services
END:VEVENT
BEGIN:VEVENT
DTSTART;TZID=UTC:20240621T193000
DTEND;TZID=UTC:20240621T213000
DTSTAMP:20260422T145544
CREATED:20210420T070133Z
LAST-MODIFIED:20230213T223913Z
UID:3278-1718998200-1719005400@staging.sacramentoicc.org
SUMMARY:Campus Devotional
DESCRIPTION:
URL:https://staging.sacramentoicc.org/event/campus-devotional-2024-06-21/
LOCATION:California State University\, Sacramento\, 6000 J Street\, Sacramento\, CA\, 95189\, United States
CATEGORIES:Worship Services
END:VEVENT
BEGIN:VEVENT
DTSTART;TZID=UTC:20240619T193000
DTEND;TZID=UTC:20240619T210000
DTSTAMP:20260422T145544
CREATED:20210420T065039Z
LAST-MODIFIED:20230213T223313Z
UID:3277-1718825400-1718830800@staging.sacramentoicc.org
SUMMARY:Women's Midweek
DESCRIPTION:
URL:https://staging.sacramentoicc.org/event/womens-midweek-2024-06-19/
LOCATION:California State University\, Sacramento\, 6000 J Street\, Sacramento\, CA\, 95189\, United States
CATEGORIES:Worship Services
END:VEVENT
BEGIN:VEVENT
DTSTART;TZID=UTC:20240616T100000
DTEND;TZID=UTC:20240616T120000
DTSTAMP:20260422T145544
CREATED:20210420T070508Z
LAST-MODIFIED:20230213T191928Z
UID:3505-1718532000-1718539200@staging.sacramentoicc.org
SUMMARY:Worship Service
DESCRIPTION:
URL:https://staging.sacramentoicc.org/event/worship-service-2025-02-09-2024-06-16/
LOCATION:Hilton Sacramento Arden West\, 2200 Harvard St.\, Sacramento\, CA\, 95815\, United States
CATEGORIES:Worship Services
END:VEVENT
BEGIN:VEVENT
DTSTART;TZID=UTC:20240614T193000
DTEND;TZID=UTC:20240614T213000
DTSTAMP:20260422T145544
CREATED:20210420T070133Z
LAST-MODIFIED:20230213T223913Z
UID:3275-1718393400-1718400600@staging.sacramentoicc.org
SUMMARY:Campus Devotional
DESCRIPTION:
URL:https://staging.sacramentoicc.org/event/campus-devotional-2024-06-14/
LOCATION:California State University\, Sacramento\, 6000 J Street\, Sacramento\, CA\, 95189\, United States
CATEGORIES:Worship Services
END:VEVENT
BEGIN:VEVENT
DTSTART;TZID=UTC:20240612T193000
DTEND;TZID=UTC:20240612T210000
DTSTAMP:20260422T145544
CREATED:20210420T063747Z
LAST-MODIFIED:20230213T223712Z
UID:3274-1718220600-1718226000@staging.sacramentoicc.org
SUMMARY:Men's Midweek
DESCRIPTION:
URL:https://staging.sacramentoicc.org/event/mens-midweek-2024-06-12/
LOCATION:California State University\, Sacramento\, 6000 J Street\, Sacramento\, CA\, 95189\, United States
CATEGORIES:Worship Services
END:VEVENT
BEGIN:VEVENT
DTSTART;TZID=UTC:20240609T100000
DTEND;TZID=UTC:20240609T120000
DTSTAMP:20260422T145544
CREATED:20210420T070508Z
LAST-MODIFIED:20230213T191928Z
UID:3504-1717927200-1717934400@staging.sacramentoicc.org
SUMMARY:Worship Service
DESCRIPTION:
URL:https://staging.sacramentoicc.org/event/worship-service-2025-02-09-2024-06-09/
LOCATION:Hilton Sacramento Arden West\, 2200 Harvard St.\, Sacramento\, CA\, 95815\, United States
CATEGORIES:Worship Services
END:VEVENT
BEGIN:VEVENT
DTSTART;TZID=UTC:20240607T193000
DTEND;TZID=UTC:20240607T213000
DTSTAMP:20260422T145544
CREATED:20210420T070133Z
LAST-MODIFIED:20230213T223912Z
UID:3272-1717788600-1717795800@staging.sacramentoicc.org
SUMMARY:Campus Devotional
DESCRIPTION:
URL:https://staging.sacramentoicc.org/event/campus-devotional-2024-06-07/
LOCATION:California State University\, Sacramento\, 6000 J Street\, Sacramento\, CA\, 95189\, United States
CATEGORIES:Worship Services
END:VEVENT
BEGIN:VEVENT
DTSTART;TZID=UTC:20240605T193000
DTEND;TZID=UTC:20240605T210000
DTSTAMP:20260422T145544
CREATED:20210420T065039Z
LAST-MODIFIED:20230213T223313Z
UID:3268-1717615800-1717621200@staging.sacramentoicc.org
SUMMARY:Women's Midweek
DESCRIPTION:
URL:https://staging.sacramentoicc.org/event/womens-midweek-2024-06-05/
LOCATION:California State University\, Sacramento\, 6000 J Street\, Sacramento\, CA\, 95189\, United States
CATEGORIES:Worship Services
END:VEVENT
BEGIN:VEVENT
DTSTART;TZID=UTC:20240602T100000
DTEND;TZID=UTC:20240602T120000
DTSTAMP:20260422T145544
CREATED:20210420T070508Z
LAST-MODIFIED:20230213T191927Z
UID:3503-1717322400-1717329600@staging.sacramentoicc.org
SUMMARY:Worship Service
DESCRIPTION:
URL:https://staging.sacramentoicc.org/event/worship-service-2025-02-09-2024-06-02/
LOCATION:Hilton Sacramento Arden West\, 2200 Harvard St.\, Sacramento\, CA\, 95815\, United States
CATEGORIES:Worship Services
END:VEVENT
BEGIN:VEVENT
DTSTART;TZID=UTC:20240531T193000
DTEND;TZID=UTC:20240531T213000
DTSTAMP:20260422T145544
CREATED:20210420T070133Z
LAST-MODIFIED:20230213T223912Z
UID:3266-1717183800-1717191000@staging.sacramentoicc.org
SUMMARY:Campus Devotional
DESCRIPTION:
URL:https://staging.sacramentoicc.org/event/campus-devotional-2024-05-31/
LOCATION:California State University\, Sacramento\, 6000 J Street\, Sacramento\, CA\, 95189\, United States
CATEGORIES:Worship Services
END:VEVENT
BEGIN:VEVENT
DTSTART;TZID=UTC:20240529T193000
DTEND;TZID=UTC:20240529T210000
DTSTAMP:20260422T145544
CREATED:20210420T063747Z
LAST-MODIFIED:20230213T223711Z
UID:3265-1717011000-1717016400@staging.sacramentoicc.org
SUMMARY:Men's Midweek
DESCRIPTION:
URL:https://staging.sacramentoicc.org/event/mens-midweek-2024-05-29/
LOCATION:California State University\, Sacramento\, 6000 J Street\, Sacramento\, CA\, 95189\, United States
CATEGORIES:Worship Services
END:VEVENT
BEGIN:VEVENT
DTSTART;TZID=UTC:20240526T100000
DTEND;TZID=UTC:20240526T120000
DTSTAMP:20260422T145544
CREATED:20210420T070508Z
LAST-MODIFIED:20230213T191927Z
UID:3502-1716717600-1716724800@staging.sacramentoicc.org
SUMMARY:Worship Service
DESCRIPTION:
URL:https://staging.sacramentoicc.org/event/worship-service-2025-02-09-2024-05-26/
LOCATION:Hilton Sacramento Arden West\, 2200 Harvard St.\, Sacramento\, CA\, 95815\, United States
CATEGORIES:Worship Services
END:VEVENT
BEGIN:VEVENT
DTSTART;TZID=UTC:20240524T193000
DTEND;TZID=UTC:20240524T213000
DTSTAMP:20260422T145544
CREATED:20210420T070133Z
LAST-MODIFIED:20230213T223912Z
UID:3263-1716579000-1716586200@staging.sacramentoicc.org
SUMMARY:Campus Devotional
DESCRIPTION:
URL:https://staging.sacramentoicc.org/event/campus-devotional-2024-05-24/
LOCATION:California State University\, Sacramento\, 6000 J Street\, Sacramento\, CA\, 95189\, United States
CATEGORIES:Worship Services
END:VEVENT
BEGIN:VEVENT
DTSTART;TZID=UTC:20240522T193000
DTEND;TZID=UTC:20240522T210000
DTSTAMP:20260422T145544
CREATED:20210420T065039Z
LAST-MODIFIED:20230213T223312Z
UID:3262-1716406200-1716411600@staging.sacramentoicc.org
SUMMARY:Women's Midweek
DESCRIPTION:
URL:https://staging.sacramentoicc.org/event/womens-midweek-2024-05-22/
LOCATION:California State University\, Sacramento\, 6000 J Street\, Sacramento\, CA\, 95189\, United States
CATEGORIES:Worship Services
END:VEVENT
BEGIN:VEVENT
DTSTART;TZID=UTC:20240519T100000
DTEND;TZID=UTC:20240519T120000
DTSTAMP:20260422T145544
CREATED:20210420T070508Z
LAST-MODIFIED:20230213T191926Z
UID:3501-1716112800-1716120000@staging.sacramentoicc.org
SUMMARY:Worship Service
DESCRIPTION:
URL:https://staging.sacramentoicc.org/event/worship-service-2025-02-09-2024-05-19/
LOCATION:Hilton Sacramento Arden West\, 2200 Harvard St.\, Sacramento\, CA\, 95815\, United States
CATEGORIES:Worship Services
END:VEVENT
BEGIN:VEVENT
DTSTART;TZID=UTC:20240517T193000
DTEND;TZID=UTC:20240517T213000
DTSTAMP:20260422T145544
CREATED:20210420T070133Z
LAST-MODIFIED:20230213T223911Z
UID:3257-1715974200-1715981400@staging.sacramentoicc.org
SUMMARY:Campus Devotional
DESCRIPTION:
URL:https://staging.sacramentoicc.org/event/campus-devotional-2024-05-17/
LOCATION:California State University\, Sacramento\, 6000 J Street\, Sacramento\, CA\, 95189\, United States
CATEGORIES:Worship Services
END:VEVENT
END:VCALENDAR